BEGIN:VCALENDAR
VERSION:2.0
PRODID:-//교토대학 한국인유학생 커뮤니티 - ECPv6.9.0//NONSGML v1.0//EN
CALSCALE:GREGORIAN
METHOD:PUBLISH
X-WR-CALNAME:교토대학 한국인유학생 커뮤니티
X-ORIGINAL-URL:https://kyotoksa.com
X-WR-CALDESC:Events for 교토대학 한국인유학생 커뮤니티
REFRESH-INTERVAL;VALUE=DURATION:PT1H
X-Robots-Tag:noindex
X-PUBLISHED-TTL:PT1H
BEGIN:VTIMEZONE
TZID:Asia/Seoul
BEGIN:STANDARD
TZOFFSETFROM:+0900
TZOFFSETTO:+0900
TZNAME:KST
DTSTART:20230101T000000
END:STANDARD
END:VTIMEZONE
BEGIN:VEVENT
DTSTART;VALUE=DATE:20230324
DTEND;VALUE=DATE:20230325
DTSTAMP:20260420T090522
CREATED:20210803T074038Z
LAST-MODIFIED:20220405T062412Z
UID:3277-1679616000-1679702399@kyotoksa.com
SUMMARY:卒業式 (졸업식)
DESCRIPTION:
URL:https://kyotoksa.com/event/%e5%8d%92%e6%a5%ad%e5%bc%8f-%ec%a1%b8%ec%97%85%ec%8b%9d/
CATEGORIES:Event,교토대학,이벤트,학부
ATTACH;FMTTYPE=image/jpeg:https://kyotoksa.com/wp-content/uploads/2021/04/calendar_2.jpg
END:VEVENT
END:VCALENDAR