BEGIN:VCALENDAR
VERSION:2.0
PRODID:-//교토대학 한국인유학생 커뮤니티 - ECPv6.9.0//NONSGML v1.0//EN
CALSCALE:GREGORIAN
METHOD:PUBLISH
X-WR-CALNAME:교토대학 한국인유학생 커뮤니티
X-ORIGINAL-URL:https://kyotoksa.com
X-WR-CALDESC:Events for 교토대학 한국인유학생 커뮤니티
REFRESH-INTERVAL;VALUE=DURATION:PT1H
X-Robots-Tag:noindex
X-PUBLISHED-TTL:PT1H
BEGIN:VTIMEZONE
TZID:Asia/Seoul
BEGIN:STANDARD
TZOFFSETFROM:+0900
TZOFFSETTO:+0900
TZNAME:KST
DTSTART:20250101T000000
END:STANDARD
END:VTIMEZONE
BEGIN:VEVENT
DTSTART;TZID=Asia/Seoul:20250407T093000
DTEND;TZID=Asia/Seoul:20250407T102000
DTSTAMP:20260423T024543
CREATED:20230323T013125Z
LAST-MODIFIED:20250310T194613Z
UID:3542-1744018200-1744021200@kyotoksa.com
SUMMARY:入学式 (입학식)
DESCRIPTION:
URL:https://kyotoksa.com/event/%e5%85%a5%e5%ad%a6%e5%bc%8f-%ec%9e%85%ed%95%99%ec%8b%9d/
CATEGORIES:Event,이벤트
ATTACH;FMTTYPE=image/jpeg:https://kyotoksa.com/wp-content/uploads/2023/03/kyotou_entrance.jpg
END:VEVENT
BEGIN:VEVENT
DTSTART;VALUE=DATE:20250408
DTEND;VALUE=DATE:20250723
DTSTAMP:20260423T024543
CREATED:20230323T013300Z
LAST-MODIFIED:20250310T195655Z
UID:3545-1744070400-1753228799@kyotoksa.com
SUMMARY:授業期間 (학기 수업기간)
DESCRIPTION:
URL:https://kyotoksa.com/event/%e6%8e%88%e6%a5%ad%e6%9c%9f%e9%96%93-%ed%95%99%ea%b8%b0-%ec%88%98%ec%97%85%ea%b8%b0%ea%b0%84/
CATEGORIES:Event,이벤트
ATTACH;FMTTYPE=image/jpeg:https://kyotoksa.com/wp-content/uploads/2023/03/jaadmissionsevents_newsofficekyoiku-suishin-gakusei-shiennyushi-kikakunews2016images160819_101.jpg
END:VEVENT
END:VCALENDAR