BEGIN:VCALENDAR
VERSION:2.0
PRODID:-//교토대학 한국인유학생 커뮤니티 - ECPv6.9.0//NONSGML v1.0//EN
CALSCALE:GREGORIAN
METHOD:PUBLISH
X-ORIGINAL-URL:https://kyotoksa.com
X-WR-CALDESC:Events for 교토대학 한국인유학생 커뮤니티
REFRESH-INTERVAL;VALUE=DURATION:PT1H
X-Robots-Tag:noindex
X-PUBLISHED-TTL:PT1H
BEGIN:VTIMEZONE
TZID:Asia/Seoul
BEGIN:STANDARD
TZOFFSETFROM:+0900
TZOFFSETTO:+0900
TZNAME:KST
DTSTART:20220101T000000
END:STANDARD
END:VTIMEZONE
BEGIN:VEVENT
DTSTART;VALUE=DATE:20221121
DTEND;VALUE=DATE:20221123
DTSTAMP:20260423T042010
CREATED:20200109T120600Z
LAST-MODIFIED:20220405T062107Z
UID:2714-1668988800-1669161599@kyotoksa.com
SUMMARY:11月祭による授業休止
DESCRIPTION:
URL:https://kyotoksa.com/event/11%e6%9c%88%e7%a5%ad%e3%81%ab%e3%82%88%e3%82%8b%e6%8e%88%e6%a5%ad%e4%bc%91%e6%ad%a2/
CATEGORIES:교토대학,이벤트,일정
ATTACH;FMTTYPE=image/jpeg:https://kyotoksa.com/wp-content/uploads/2020/01/fireworks.jpeg
END:VEVENT
END:VCALENDAR