BEGIN:VCALENDAR
VERSION:2.0
PRODID:-//교토대학 한국인유학생 커뮤니티 - ECPv6.9.0//NONSGML v1.0//EN
CALSCALE:GREGORIAN
METHOD:PUBLISH
X-WR-CALNAME:교토대학 한국인유학생 커뮤니티
X-ORIGINAL-URL:https://kyotoksa.com
X-WR-CALDESC:Events for 교토대학 한국인유학생 커뮤니티
REFRESH-INTERVAL;VALUE=DURATION:PT1H
X-Robots-Tag:noindex
X-PUBLISHED-TTL:PT1H
BEGIN:VTIMEZONE
TZID:Asia/Seoul
BEGIN:STANDARD
TZOFFSETFROM:+0900
TZOFFSETTO:+0900
TZNAME:KST
DTSTART:20190101T000000
END:STANDARD
END:VTIMEZONE
BEGIN:VEVENT
DTSTART;VALUE=DATE:20191228
DTEND;VALUE=DATE:20200106
DTSTAMP:20260424T084732
CREATED:20200105T061310Z
LAST-MODIFIED:20200105T061537Z
UID:2537-1577491200-1578268799@kyotoksa.com
SUMMARY:冬季休業
DESCRIPTION:
URL:https://kyotoksa.com/event/%e5%86%ac%e5%ad%a3%e4%bc%91%e6%a5%ad/
CATEGORIES:교토대학,방학,일정
ATTACH;FMTTYPE=image/jpeg:https://kyotoksa.com/wp-content/uploads/2016/03/course_physics_portfolio_feat.jpg
END:VEVENT
BEGIN:VEVENT
DTSTART;VALUE=DATE:20200113
DTEND;VALUE=DATE:20200126
DTSTAMP:20260424T084732
CREATED:20200105T060554Z
LAST-MODIFIED:20200105T062859Z
UID:2531-1578873600-1579996799@kyotoksa.com
SUMMARY:Application of winter seminar 2020 started
DESCRIPTION:
URL:https://kyotoksa.com/event/application-of-winter-seminar-2020-started/
LOCATION:요시다 캠퍼스\, 京都市左京区吉田本町\, Kyoto\, Kyoto\, 606-8501\, Japan
CATEGORIES:교토대학,일정,학기
ATTACH;FMTTYPE=image/jpeg:https://kyotoksa.com/wp-content/uploads/2016/03/business_seminar_event_feat.jpg
END:VEVENT
BEGIN:VEVENT
DTSTART;VALUE=DATE:20200127
DTEND;VALUE=DATE:20200208
DTSTAMP:20260424T084732
CREATED:20200105T062018Z
LAST-MODIFIED:20200105T062018Z
UID:2540-1580083200-1581119999@kyotoksa.com
SUMMARY:試験・フィードバック期間
DESCRIPTION:
URL:https://kyotoksa.com/event/%e8%a9%a6%e9%a8%93%e3%83%bb%e3%83%95%e3%82%a3%e3%83%bc%e3%83%89%e3%83%90%e3%83%83%e3%82%af%e6%9c%9f%e9%96%93/
CATEGORIES:교토대학,일정,학기
ATTACH;FMTTYPE=image/jpeg:https://kyotoksa.com/wp-content/uploads/2016/03/single_page_course_2.jpg
END:VEVENT
END:VCALENDAR