BEGIN:VCALENDAR
VERSION:2.0
PRODID:-//교토대학 한국인유학생 커뮤니티 - ECPv6.9.0//NONSGML v1.0//EN
CALSCALE:GREGORIAN
METHOD:PUBLISH
X-WR-CALNAME:교토대학 한국인유학생 커뮤니티
X-ORIGINAL-URL:https://kyotoksa.com
X-WR-CALDESC:Events for 교토대학 한국인유학생 커뮤니티
REFRESH-INTERVAL;VALUE=DURATION:PT1H
X-Robots-Tag:noindex
X-PUBLISHED-TTL:PT1H
BEGIN:VTIMEZONE
TZID:Asia/Seoul
BEGIN:STANDARD
TZOFFSETFROM:+0900
TZOFFSETTO:+0900
TZNAME:KST
DTSTART:20220101T000000
END:STANDARD
END:VTIMEZONE
BEGIN:VEVENT
DTSTART;VALUE=DATE:20220401
DTEND;VALUE=DATE:20220402
DTSTAMP:20260420T022529
CREATED:20210331T094009Z
LAST-MODIFIED:20220405T060710Z
UID:3146-1648771200-1648857599@kyotoksa.com
SUMMARY:학기시작 (전기)
DESCRIPTION:
URL:https://kyotoksa.com/event/%ed%95%99%ea%b8%b0%ec%8b%9c%ec%9e%91-%ec%a0%84%ea%b8%b0-2/
CATEGORIES:Event,교토대학,일정
ATTACH;FMTTYPE=image/jpeg:https://kyotoksa.com/wp-content/uploads/2020/04/wallpaperflare.com_wallpaper-4-scaled.jpg
END:VEVENT
BEGIN:VEVENT
DTSTART;VALUE=DATE:20220404
DTEND;VALUE=DATE:20220407
DTSTAMP:20260420T022529
CREATED:20210331T094408Z
LAST-MODIFIED:20220405T061024Z
UID:3149-1649030400-1649289599@kyotoksa.com
SUMMARY:신입생 가이던스 및 입학식
DESCRIPTION:
URL:https://kyotoksa.com/event/%ec%8b%a0%ec%9e%85%ec%83%9d-%ea%b0%80%ec%9d%b4%eb%8d%98%ec%8a%a4-%eb%b0%8f-%ec%9e%85%ed%95%99%ec%8b%9d/
CATEGORIES:Event,교토대학,일정
ATTACH;FMTTYPE=image/jpeg:https://kyotoksa.com/wp-content/uploads/2021/03/calendar_1.jpeg
END:VEVENT
BEGIN:VEVENT
DTSTART;VALUE=DATE:20220408
DTEND;VALUE=DATE:20220722
DTSTAMP:20260420T022529
CREATED:20210412T130255Z
LAST-MODIFIED:20220405T061224Z
UID:3158-1649376000-1658447999@kyotoksa.com
SUMMARY:수업기간 (전기)
DESCRIPTION:
URL:https://kyotoksa.com/event/%ec%88%98%ec%97%85%ea%b8%b0%ea%b0%84-%ec%a0%84%ea%b8%b0/
CATEGORIES:교토대학,일정,학기
ATTACH;FMTTYPE=image/jpeg:https://kyotoksa.com/wp-content/uploads/2021/04/calendar_6.jpg
END:VEVENT
BEGIN:VEVENT
DTSTART;VALUE=DATE:20220429
DTEND;VALUE=DATE:20220509
DTSTAMP:20260420T022529
CREATED:20210420T065509Z
LAST-MODIFIED:20220405T061448Z
UID:3166-1651190400-1652054399@kyotoksa.com
SUMMARY:골든위크 (Golden Week)
DESCRIPTION:
URL:https://kyotoksa.com/event/%ea%b3%a8%eb%93%a0%ec%9c%84%ed%81%ac-golden-week/
CATEGORIES:교토대학,방학,일정
ATTACH;FMTTYPE=image/jpeg:https://kyotoksa.com/wp-content/uploads/2021/04/calendar_1.jpg
END:VEVENT
END:VCALENDAR