BEGIN:VCALENDAR
VERSION:2.0
PRODID:-//교토대학 한국인유학생 커뮤니티 - ECPv6.9.0//NONSGML v1.0//EN
CALSCALE:GREGORIAN
METHOD:PUBLISH
X-WR-CALNAME:교토대학 한국인유학생 커뮤니티
X-ORIGINAL-URL:https://kyotoksa.com
X-WR-CALDESC:Events for 교토대학 한국인유학생 커뮤니티
REFRESH-INTERVAL;VALUE=DURATION:PT1H
X-Robots-Tag:noindex
X-PUBLISHED-TTL:PT1H
BEGIN:VTIMEZONE
TZID:Asia/Seoul
BEGIN:STANDARD
TZOFFSETFROM:+0900
TZOFFSETTO:+0900
TZNAME:KST
DTSTART:20200101T000000
END:STANDARD
END:VTIMEZONE
BEGIN:VEVENT
DTSTART;VALUE=DATE:20200806
DTEND;VALUE=DATE:20201001
DTSTAMP:20260423T202345
CREATED:20200109T115707Z
LAST-MODIFIED:20200109T115707Z
UID:2702-1596672000-1601510399@kyotoksa.com
SUMMARY:夏季休業
DESCRIPTION:
URL:https://kyotoksa.com/event/%e5%a4%8f%e5%ad%a3%e4%bc%91%e6%a5%ad/
CATEGORIES:교토대학,방학,일정
ATTACH;FMTTYPE=image/jpeg:https://kyotoksa.com/wp-content/uploads/2016/03/course_music_portfolio_feat.jpg
END:VEVENT
BEGIN:VEVENT
DTSTART;VALUE=DATE:20200930
DTEND;VALUE=DATE:20201001
DTSTAMP:20260423T202345
CREATED:20200109T115821Z
LAST-MODIFIED:20200109T115840Z
UID:2704-1601424000-1601510399@kyotoksa.com
SUMMARY:終わり(전기 종료일)
DESCRIPTION:
URL:https://kyotoksa.com/event/%e7%b5%82%e3%82%8f%e3%82%8a%ec%a0%84%ea%b8%b0-%ec%a2%85%eb%a3%8c%ec%9d%bc/
CATEGORIES:교토대학,일정
ATTACH;FMTTYPE=image/jpeg:https://kyotoksa.com/wp-content/uploads/2016/03/business_seminar_event_feat.jpg
END:VEVENT
END:VCALENDAR