BEGIN:VCALENDAR
VERSION:2.0
PRODID:-//교토대학 한국인유학생 커뮤니티 - ECPv6.9.0//NONSGML v1.0//EN
CALSCALE:GREGORIAN
METHOD:PUBLISH
X-WR-CALNAME:교토대학 한국인유학생 커뮤니티
X-ORIGINAL-URL:https://kyotoksa.com
X-WR-CALDESC:Events for 교토대학 한국인유학생 커뮤니티
REFRESH-INTERVAL;VALUE=DURATION:PT1H
X-Robots-Tag:noindex
X-PUBLISHED-TTL:PT1H
BEGIN:VTIMEZONE
TZID:Asia/Seoul
BEGIN:STANDARD
TZOFFSETFROM:+0900
TZOFFSETTO:+0900
TZNAME:KST
DTSTART:20200101T000000
END:STANDARD
END:VTIMEZONE
BEGIN:VEVENT
DTSTART;VALUE=DATE:20201001
DTEND;VALUE=DATE:20210126
DTSTAMP:20260423T172530
CREATED:20200109T120318Z
LAST-MODIFIED:20200109T120318Z
UID:2712-1601510400-1611619199@kyotoksa.com
SUMMARY:授業期間 (후기)
DESCRIPTION:
URL:https://kyotoksa.com/event/%e6%8e%88%e6%a5%ad%e6%9c%9f%e9%96%93-%ed%9b%84%ea%b8%b0/
CATEGORIES:교토대학,일정,학기
ATTACH;FMTTYPE=image/jpeg:https://kyotoksa.com/wp-content/uploads/2016/03/course_economics_portfolio_feat.jpg
END:VEVENT
END:VCALENDAR