BEGIN:VCALENDAR
VERSION:2.0
PRODID:-//교토대학 한국인유학생 커뮤니티 - ECPv6.9.0//NONSGML v1.0//EN
CALSCALE:GREGORIAN
METHOD:PUBLISH
X-ORIGINAL-URL:https://kyotoksa.com
X-WR-CALDESC:Events for 교토대학 한국인유학생 커뮤니티
REFRESH-INTERVAL;VALUE=DURATION:PT1H
X-Robots-Tag:noindex
X-PUBLISHED-TTL:PT1H
BEGIN:VTIMEZONE
TZID:Asia/Seoul
BEGIN:STANDARD
TZOFFSETFROM:+0900
TZOFFSETTO:+0900
TZNAME:KST
DTSTART:20210101T000000
END:STANDARD
END:VTIMEZONE
BEGIN:VEVENT
DTSTART;VALUE=DATE:20210323
DTEND;VALUE=DATE:20210324
DTSTAMP:20260423T122826
CREATED:20200109T121037Z
LAST-MODIFIED:20200109T121037Z
UID:2723-1616457600-1616543999@kyotoksa.com
SUMMARY:大学院学位授与式
DESCRIPTION:
URL:https://kyotoksa.com/event/%e5%a4%a7%e5%ad%a6%e9%99%a2%e5%ad%a6%e4%bd%8d%e6%8e%88%e4%b8%8e%e5%bc%8f-2/
CATEGORIES:교토대학,대학원,일정
ATTACH;FMTTYPE=image/jpeg:https://kyotoksa.com/wp-content/uploads/2016/03/blog_post_header_top_bg_2.jpg
END:VEVENT
END:VCALENDAR