BEGIN:VCALENDAR
VERSION:2.0
PRODID:-//교토대학 한국인유학생 커뮤니티 - ECPv6.9.0//NONSGML v1.0//EN
CALSCALE:GREGORIAN
METHOD:PUBLISH
X-WR-CALNAME:교토대학 한국인유학생 커뮤니티
X-ORIGINAL-URL:https://kyotoksa.com
X-WR-CALDESC:Events for 교토대학 한국인유학생 커뮤니티
REFRESH-INTERVAL;VALUE=DURATION:PT1H
X-Robots-Tag:noindex
X-PUBLISHED-TTL:PT1H
BEGIN:VTIMEZONE
TZID:Asia/Seoul
BEGIN:STANDARD
TZOFFSETFROM:+0900
TZOFFSETTO:+0900
TZNAME:KST
DTSTART:20210101T000000
END:STANDARD
END:VTIMEZONE
BEGIN:VEVENT
DTSTART;VALUE=DATE:20210324
DTEND;VALUE=DATE:20210325
DTSTAMP:20260423T121720
CREATED:20200109T121135Z
LAST-MODIFIED:20200109T121135Z
UID:2726-1616544000-1616630399@kyotoksa.com
SUMMARY:卒業式
DESCRIPTION:
URL:https://kyotoksa.com/event/%e5%8d%92%e6%a5%ad%e5%bc%8f-2/
CATEGORIES:교토대학,일정,학부
ATTACH;FMTTYPE=image/jpeg:https://kyotoksa.com/wp-content/uploads/2019/12/1457.jpg
END:VEVENT
END:VCALENDAR