BEGIN:VCALENDAR
VERSION:2.0
PRODID:-//교토대학 한국인유학생 커뮤니티 - ECPv6.9.0//NONSGML v1.0//EN
CALSCALE:GREGORIAN
METHOD:PUBLISH
X-ORIGINAL-URL:https://kyotoksa.com
X-WR-CALDESC:Events for 교토대학 한국인유학생 커뮤니티
REFRESH-INTERVAL;VALUE=DURATION:PT1H
X-Robots-Tag:noindex
X-PUBLISHED-TTL:PT1H
BEGIN:VTIMEZONE
TZID:Asia/Seoul
BEGIN:STANDARD
TZOFFSETFROM:+0900
TZOFFSETTO:+0900
TZNAME:KST
DTSTART:20220101T000000
END:STANDARD
END:VTIMEZONE
BEGIN:VEVENT
DTSTART;VALUE=DATE:20220404
DTEND;VALUE=DATE:20220407
DTSTAMP:20260420T040045
CREATED:20210331T094408Z
LAST-MODIFIED:20220405T061024Z
UID:3149-1649030400-1649289599@kyotoksa.com
SUMMARY:신입생 가이던스 및 입학식
DESCRIPTION:
URL:https://kyotoksa.com/event/%ec%8b%a0%ec%9e%85%ec%83%9d-%ea%b0%80%ec%9d%b4%eb%8d%98%ec%8a%a4-%eb%b0%8f-%ec%9e%85%ed%95%99%ec%8b%9d/
CATEGORIES:Event,교토대학,일정
ATTACH;FMTTYPE=image/jpeg:https://kyotoksa.com/wp-content/uploads/2021/03/calendar_1.jpeg
END:VEVENT
END:VCALENDAR